BEGIN:VCALENDAR
VERSION:2.0
PRODID:-//Feuerwehr Mixnitz - ECPv6.9.0//NONSGML v1.0//EN
CALSCALE:GREGORIAN
METHOD:PUBLISH
X-WR-CALNAME:Feuerwehr Mixnitz
X-ORIGINAL-URL:https://www.ff-mixnitz.at
X-WR-CALDESC:Veranstaltungen für Feuerwehr Mixnitz
REFRESH-INTERVAL;VALUE=DURATION:PT1H
X-Robots-Tag:noindex
X-PUBLISHED-TTL:PT1H
BEGIN:VTIMEZONE
TZID:Europe/Helsinki
BEGIN:DAYLIGHT
TZOFFSETFROM:+0200
TZOFFSETTO:+0300
TZNAME:EEST
DTSTART:20250330T010000
END:DAYLIGHT
BEGIN:STANDARD
TZOFFSETFROM:+0300
TZOFFSETTO:+0200
TZNAME:EET
DTSTART:20251026T010000
END:STANDARD
END:VTIMEZONE
BEGIN:VEVENT
DTSTART;VALUE=DATE:20250510
DTEND;VALUE=DATE:20250511
DTSTAMP:20260421T040913
CREATED:20250111T173612Z
LAST-MODIFIED:20250111T173612Z
UID:6578-1746835200-1746921599@www.ff-mixnitz.at
SUMMARY:2. Bereichsfeuerwehrverband-Tag
DESCRIPTION:FF Breitenau a. Hochlantsch
URL:https://www.ff-mixnitz.at/event/2-bereichsfeuerwehrverband-tag/
CATEGORIES:Termine
END:VEVENT
END:VCALENDAR