BEGIN:VCALENDAR
VERSION:2.0
PRODID:-//Feuerwehr Mixnitz - ECPv6.9.0//NONSGML v1.0//EN
CALSCALE:GREGORIAN
METHOD:PUBLISH
X-ORIGINAL-URL:https://www.ff-mixnitz.at
X-WR-CALDESC:Veranstaltungen für Feuerwehr Mixnitz
REFRESH-INTERVAL;VALUE=DURATION:PT1H
X-Robots-Tag:noindex
X-PUBLISHED-TTL:PT1H
BEGIN:VTIMEZONE
TZID:Europe/Helsinki
BEGIN:DAYLIGHT
TZOFFSETFROM:+0200
TZOFFSETTO:+0300
TZNAME:EEST
DTSTART:20250330T010000
END:DAYLIGHT
BEGIN:STANDARD
TZOFFSETFROM:+0300
TZOFFSETTO:+0200
TZNAME:EET
DTSTART:20251026T010000
END:STANDARD
END:VTIMEZONE
BEGIN:VEVENT
DTSTART;VALUE=DATE:20250524
DTEND;VALUE=DATE:20250525
DTSTAMP:20260421T041427
CREATED:20250111T173701Z
LAST-MODIFIED:20250111T173701Z
UID:6580-1748044800-1748131199@www.ff-mixnitz.at
SUMMARY:FLA Bronze
DESCRIPTION:FF Etmissl
URL:https://www.ff-mixnitz.at/event/fla-bronze/
CATEGORIES:Termine
END:VEVENT
END:VCALENDAR