BEGIN:VCALENDAR
VERSION:2.0
PRODID:-//Feuerwehr Mixnitz - ECPv6.9.0//NONSGML v1.0//EN
CALSCALE:GREGORIAN
METHOD:PUBLISH
X-WR-CALNAME:Feuerwehr Mixnitz
X-ORIGINAL-URL:https://www.ff-mixnitz.at
X-WR-CALDESC:Veranstaltungen für Feuerwehr Mixnitz
REFRESH-INTERVAL;VALUE=DURATION:PT1H
X-Robots-Tag:noindex
X-PUBLISHED-TTL:PT1H
BEGIN:VTIMEZONE
TZID:Europe/Helsinki
BEGIN:DAYLIGHT
TZOFFSETFROM:+0200
TZOFFSETTO:+0300
TZNAME:EEST
DTSTART:20250330T010000
END:DAYLIGHT
BEGIN:STANDARD
TZOFFSETFROM:+0300
TZOFFSETTO:+0200
TZNAME:EET
DTSTART:20251026T010000
END:STANDARD
END:VTIMEZONE
BEGIN:VEVENT
DTSTART;TZID=Europe/Helsinki:20251028T090000
DTEND;TZID=Europe/Helsinki:20251028T120000
DTSTAMP:20260420T195831
CREATED:20251017T121737Z
LAST-MODIFIED:20251017T121737Z
UID:7258-1761642000-1761652800@www.ff-mixnitz.at
SUMMARY:Feuerlöscher Überprüfung
DESCRIPTION:
URL:https://www.ff-mixnitz.at/event/feuerloescher-ueberpruefung/
CATEGORIES:Termine
END:VEVENT
END:VCALENDAR