BEGIN:VCALENDAR
VERSION:2.0
PRODID:-//Feuerwehr Mixnitz - ECPv6.9.0//NONSGML v1.0//EN
CALSCALE:GREGORIAN
METHOD:PUBLISH
X-WR-CALNAME:Feuerwehr Mixnitz
X-ORIGINAL-URL:https://www.ff-mixnitz.at
X-WR-CALDESC:Veranstaltungen für Feuerwehr Mixnitz
REFRESH-INTERVAL;VALUE=DURATION:PT1H
X-Robots-Tag:noindex
X-PUBLISHED-TTL:PT1H
BEGIN:VTIMEZONE
TZID:Europe/Helsinki
BEGIN:DAYLIGHT
TZOFFSETFROM:+0200
TZOFFSETTO:+0300
TZNAME:EEST
DTSTART:20250330T010000
END:DAYLIGHT
BEGIN:STANDARD
TZOFFSETFROM:+0300
TZOFFSETTO:+0200
TZNAME:EET
DTSTART:20251026T010000
END:STANDARD
END:VTIMEZONE
BEGIN:VEVENT
DTSTART;TZID=Europe/Helsinki:20250502T180000
DTEND;TZID=Europe/Helsinki:20250502T200000
DTSTAMP:20260421T025140
CREATED:20250111T165934Z
LAST-MODIFIED:20250408T105905Z
UID:6515-1746208800-1746216000@www.ff-mixnitz.at
SUMMARY:Aktion Saubere Steiermark
DESCRIPTION:
URL:https://www.ff-mixnitz.at/event/uebung-4/
CATEGORIES:Termine
END:VEVENT
BEGIN:VEVENT
DTSTART;VALUE=DATE:20250504
DTEND;VALUE=DATE:20250505
DTSTAMP:20260421T025140
CREATED:20250111T173511Z
LAST-MODIFIED:20250114T115638Z
UID:6576-1746316800-1746403199@www.ff-mixnitz.at
SUMMARY:Floriani Sonntag
DESCRIPTION:
URL:https://www.ff-mixnitz.at/event/floriani-sonntag/
CATEGORIES:Termine
END:VEVENT
BEGIN:VEVENT
DTSTART;TZID=Europe/Helsinki:20250509T000000
DTEND;TZID=Europe/Helsinki:20250509T000000
DTSTAMP:20260421T025140
CREATED:20250111T170014Z
LAST-MODIFIED:20250111T170312Z
UID:6517-1746748800-1746748800@www.ff-mixnitz.at
SUMMARY:Florianimesse
DESCRIPTION:Die genaue Zeit wird noch bekannt gegeben.
URL:https://www.ff-mixnitz.at/event/uebung-5/
CATEGORIES:Termine
END:VEVENT
BEGIN:VEVENT
DTSTART;VALUE=DATE:20250510
DTEND;VALUE=DATE:20250511
DTSTAMP:20260421T025140
CREATED:20250111T173612Z
LAST-MODIFIED:20250111T173612Z
UID:6578-1746835200-1746921599@www.ff-mixnitz.at
SUMMARY:2. Bereichsfeuerwehrverband-Tag
DESCRIPTION:FF Breitenau a. Hochlantsch
URL:https://www.ff-mixnitz.at/event/2-bereichsfeuerwehrverband-tag/
CATEGORIES:Termine
END:VEVENT
BEGIN:VEVENT
DTSTART;VALUE=DATE:20250516
DTEND;VALUE=DATE:20250518
DTSTAMP:20260421T025140
CREATED:20250408T105357Z
LAST-MODIFIED:20250408T105543Z
UID:6772-1747353600-1747526399@www.ff-mixnitz.at
SUMMARY:24 Stunden KHD Übung Kapfenberg
DESCRIPTION:
URL:https://www.ff-mixnitz.at/event/24-stunden-khd-uebung-kapfenberg-2/
CATEGORIES:Termine
END:VEVENT
BEGIN:VEVENT
DTSTART;TZID=Europe/Helsinki:20250523T180000
DTEND;TZID=Europe/Helsinki:20250523T200000
DTSTAMP:20260421T025140
CREATED:20250111T171058Z
LAST-MODIFIED:20250111T171058Z
UID:6524-1748023200-1748030400@www.ff-mixnitz.at
SUMMARY:Übung
DESCRIPTION:
URL:https://www.ff-mixnitz.at/event/uebung-7/
CATEGORIES:Termine
END:VEVENT
BEGIN:VEVENT
DTSTART;VALUE=DATE:20250524
DTEND;VALUE=DATE:20250525
DTSTAMP:20260421T025140
CREATED:20250111T173701Z
LAST-MODIFIED:20250111T173701Z
UID:6580-1748044800-1748131199@www.ff-mixnitz.at
SUMMARY:FLA Bronze
DESCRIPTION:FF Etmissl
URL:https://www.ff-mixnitz.at/event/fla-bronze/
CATEGORIES:Termine
END:VEVENT
BEGIN:VEVENT
DTSTART;TZID=Europe/Helsinki:20250530T180000
DTEND;TZID=Europe/Helsinki:20250530T200000
DTSTAMP:20260421T025140
CREATED:20250111T171143Z
LAST-MODIFIED:20250111T171219Z
UID:6526-1748628000-1748635200@www.ff-mixnitz.at
SUMMARY:Übung
DESCRIPTION:
URL:https://www.ff-mixnitz.at/event/uebung-8/
CATEGORIES:Termine
END:VEVENT
END:VCALENDAR