BEGIN:VCALENDAR
VERSION:2.0
PRODID:-//Feuerwehr Mixnitz - ECPv6.9.0//NONSGML v1.0//EN
CALSCALE:GREGORIAN
METHOD:PUBLISH
X-WR-CALNAME:Feuerwehr Mixnitz
X-ORIGINAL-URL:https://www.ff-mixnitz.at
X-WR-CALDESC:Veranstaltungen für Feuerwehr Mixnitz
REFRESH-INTERVAL;VALUE=DURATION:PT1H
X-Robots-Tag:noindex
X-PUBLISHED-TTL:PT1H
BEGIN:VTIMEZONE
TZID:Europe/Helsinki
BEGIN:DAYLIGHT
TZOFFSETFROM:+0200
TZOFFSETTO:+0300
TZNAME:EEST
DTSTART:20250330T010000
END:DAYLIGHT
BEGIN:STANDARD
TZOFFSETFROM:+0300
TZOFFSETTO:+0200
TZNAME:EET
DTSTART:20251026T010000
END:STANDARD
END:VTIMEZONE
BEGIN:VEVENT
DTSTART;TZID=Europe/Helsinki:20250606T180000
DTEND;TZID=Europe/Helsinki:20250606T200000
DTSTAMP:20260421T012824
CREATED:20250111T171323Z
LAST-MODIFIED:20250111T171323Z
UID:6528-1749232800-1749240000@www.ff-mixnitz.at
SUMMARY:Übung
DESCRIPTION:
URL:https://www.ff-mixnitz.at/event/uebung-9/
CATEGORIES:Termine
END:VEVENT
BEGIN:VEVENT
DTSTART;VALUE=DATE:20250613
DTEND;VALUE=DATE:20250616
DTSTAMP:20260421T012824
CREATED:20250111T173811Z
LAST-MODIFIED:20250111T173811Z
UID:6582-1749772800-1750031999@www.ff-mixnitz.at
SUMMARY:FW Jugendlager
DESCRIPTION:Bruck-Oberaich
URL:https://www.ff-mixnitz.at/event/fw-jugendlager/
CATEGORIES:Termine
END:VEVENT
BEGIN:VEVENT
DTSTART;TZID=Europe/Helsinki:20250613T180000
DTEND;TZID=Europe/Helsinki:20250613T200000
DTSTAMP:20260421T012824
CREATED:20250111T171404Z
LAST-MODIFIED:20250111T171404Z
UID:6530-1749837600-1749844800@www.ff-mixnitz.at
SUMMARY:Übung
DESCRIPTION:
URL:https://www.ff-mixnitz.at/event/uebung-10/
CATEGORIES:Termine
END:VEVENT
BEGIN:VEVENT
DTSTART;VALUE=DATE:20250614
DTEND;VALUE=DATE:20250615
DTSTAMP:20260421T012824
CREATED:20250111T173856Z
LAST-MODIFIED:20250111T173856Z
UID:6584-1749859200-1749945599@www.ff-mixnitz.at
SUMMARY:FW Jugendleistungsbewerb
DESCRIPTION:
URL:https://www.ff-mixnitz.at/event/fw-jugendleistungsbewerb/
CATEGORIES:Termine
END:VEVENT
BEGIN:VEVENT
DTSTART;TZID=Europe/Helsinki:20250620T180000
DTEND;TZID=Europe/Helsinki:20250620T200000
DTSTAMP:20260421T012824
CREATED:20250111T171447Z
LAST-MODIFIED:20250111T171447Z
UID:6532-1750442400-1750449600@www.ff-mixnitz.at
SUMMARY:Übung
DESCRIPTION:
URL:https://www.ff-mixnitz.at/event/uebung-11/
CATEGORIES:Termine
END:VEVENT
BEGIN:VEVENT
DTSTART;VALUE=DATE:20250627
DTEND;VALUE=DATE:20250629
DTSTAMP:20260421T012824
CREATED:20250111T174005Z
LAST-MODIFIED:20250111T174005Z
UID:6586-1750982400-1751155199@www.ff-mixnitz.at
SUMMARY:59. Landesfeuerwehr Leistungsbewerb
DESCRIPTION:Bad Waltersdorf
URL:https://www.ff-mixnitz.at/event/59-landesfeuerwehr-leistungsbewerb/
CATEGORIES:Termine
END:VEVENT
BEGIN:VEVENT
DTSTART;TZID=Europe/Helsinki:20250627T180000
DTEND;TZID=Europe/Helsinki:20250627T200000
DTSTAMP:20260421T012824
CREATED:20250111T171522Z
LAST-MODIFIED:20250111T171522Z
UID:6534-1751047200-1751054400@www.ff-mixnitz.at
SUMMARY:Übung
DESCRIPTION:
URL:https://www.ff-mixnitz.at/event/uebung-12/
CATEGORIES:Termine
END:VEVENT
BEGIN:VEVENT
DTSTART;VALUE=DATE:20250628
DTEND;VALUE=DATE:20250629
DTSTAMP:20260421T012824
CREATED:20250111T174114Z
LAST-MODIFIED:20250111T175255Z
UID:6588-1751068800-1751155199@www.ff-mixnitz.at
SUMMARY:141. Landesfeuerwehrtag
DESCRIPTION:Bad Waltersdorf
URL:https://www.ff-mixnitz.at/event/141-landesfeuerwehrtag/
CATEGORIES:Termine
END:VEVENT
BEGIN:VEVENT
DTSTART;VALUE=DATE:20250629
DTEND;VALUE=DATE:20250630
DTSTAMP:20260421T012824
CREATED:20250111T175414Z
LAST-MODIFIED:20250111T175414Z
UID:6590-1751155200-1751241599@www.ff-mixnitz.at
SUMMARY:Formel I GP
DESCRIPTION:Spielberg
URL:https://www.ff-mixnitz.at/event/formel-i-gp/
CATEGORIES:Termine
END:VEVENT
END:VCALENDAR