BEGIN:VCALENDAR
VERSION:2.0
PRODID:-//Feuerwehr Mixnitz - ECPv6.9.0//NONSGML v1.0//EN
CALSCALE:GREGORIAN
METHOD:PUBLISH
X-WR-CALNAME:Feuerwehr Mixnitz
X-ORIGINAL-URL:https://www.ff-mixnitz.at
X-WR-CALDESC:Veranstaltungen für Feuerwehr Mixnitz
REFRESH-INTERVAL;VALUE=DURATION:PT1H
X-Robots-Tag:noindex
X-PUBLISHED-TTL:PT1H
BEGIN:VTIMEZONE
TZID:Europe/Helsinki
BEGIN:DAYLIGHT
TZOFFSETFROM:+0200
TZOFFSETTO:+0300
TZNAME:EEST
DTSTART:20250330T010000
END:DAYLIGHT
BEGIN:STANDARD
TZOFFSETFROM:+0300
TZOFFSETTO:+0200
TZNAME:EET
DTSTART:20251026T010000
END:STANDARD
END:VTIMEZONE
BEGIN:VEVENT
DTSTART;TZID=Europe/Helsinki:20251003T180000
DTEND;TZID=Europe/Helsinki:20251003T200000
DTSTAMP:20260420T200412
CREATED:20250111T171914Z
LAST-MODIFIED:20250111T171914Z
UID:6544-1759514400-1759521600@www.ff-mixnitz.at
SUMMARY:Übung
DESCRIPTION:
URL:https://www.ff-mixnitz.at/event/uebung-17/
CATEGORIES:Termine
END:VEVENT
BEGIN:VEVENT
DTSTART;TZID=Europe/Helsinki:20251010T180000
DTEND;TZID=Europe/Helsinki:20251010T200000
DTSTAMP:20260420T200412
CREATED:20250111T171954Z
LAST-MODIFIED:20250111T171954Z
UID:6546-1760119200-1760126400@www.ff-mixnitz.at
SUMMARY:Übung
DESCRIPTION:
URL:https://www.ff-mixnitz.at/event/uebung-18/
CATEGORIES:Termine
END:VEVENT
BEGIN:VEVENT
DTSTART;TZID=Europe/Helsinki:20251017T180000
DTEND;TZID=Europe/Helsinki:20251017T200000
DTSTAMP:20260420T200412
CREATED:20250111T172026Z
LAST-MODIFIED:20250111T172026Z
UID:6548-1760724000-1760731200@www.ff-mixnitz.at
SUMMARY:Übung
DESCRIPTION:
URL:https://www.ff-mixnitz.at/event/uebung-19/
CATEGORIES:Termine
END:VEVENT
BEGIN:VEVENT
DTSTART;TZID=Europe/Helsinki:20251024T180000
DTEND;TZID=Europe/Helsinki:20251024T200000
DTSTAMP:20260420T200412
CREATED:20250111T172106Z
LAST-MODIFIED:20250111T172106Z
UID:6550-1761328800-1761336000@www.ff-mixnitz.at
SUMMARY:Übung
DESCRIPTION:
URL:https://www.ff-mixnitz.at/event/uebung-20/
CATEGORIES:Termine
END:VEVENT
BEGIN:VEVENT
DTSTART;TZID=Europe/Helsinki:20251028T090000
DTEND;TZID=Europe/Helsinki:20251028T120000
DTSTAMP:20260420T200412
CREATED:20251017T121737Z
LAST-MODIFIED:20251017T121737Z
UID:7258-1761642000-1761652800@www.ff-mixnitz.at
SUMMARY:Feuerlöscher Überprüfung
DESCRIPTION:
URL:https://www.ff-mixnitz.at/event/feuerloescher-ueberpruefung/
CATEGORIES:Termine
END:VEVENT
BEGIN:VEVENT
DTSTART;VALUE=DATE:20251031
DTEND;VALUE=DATE:20251101
DTSTAMP:20260420T200412
CREATED:20250111T175941Z
LAST-MODIFIED:20250111T175941Z
UID:6602-1761868800-1761955199@www.ff-mixnitz.at
SUMMARY:Arbeitstagung d. Kdt.
DESCRIPTION:FF Kapfenberg Stadt
URL:https://www.ff-mixnitz.at/event/arbeitstagung-d-kdt/
CATEGORIES:Termine
END:VEVENT
BEGIN:VEVENT
DTSTART;TZID=Europe/Helsinki:20251031T180000
DTEND;TZID=Europe/Helsinki:20251031T200000
DTSTAMP:20260420T200412
CREATED:20250111T172146Z
LAST-MODIFIED:20250111T172146Z
UID:6552-1761933600-1761940800@www.ff-mixnitz.at
SUMMARY:Übung
DESCRIPTION:
URL:https://www.ff-mixnitz.at/event/uebung-21/
CATEGORIES:Termine
END:VEVENT
END:VCALENDAR