BEGIN:VCALENDAR
VERSION:2.0
PRODID:-//Feuerwehr Mixnitz - ECPv6.9.0//NONSGML v1.0//EN
CALSCALE:GREGORIAN
METHOD:PUBLISH
X-ORIGINAL-URL:https://www.ff-mixnitz.at
X-WR-CALDESC:Veranstaltungen für Feuerwehr Mixnitz
REFRESH-INTERVAL;VALUE=DURATION:PT1H
X-Robots-Tag:noindex
X-PUBLISHED-TTL:PT1H
BEGIN:VTIMEZONE
TZID:Europe/Helsinki
BEGIN:DAYLIGHT
TZOFFSETFROM:+0200
TZOFFSETTO:+0300
TZNAME:EEST
DTSTART:20260329T010000
END:DAYLIGHT
BEGIN:STANDARD
TZOFFSETFROM:+0300
TZOFFSETTO:+0200
TZNAME:EET
DTSTART:20261025T010000
END:STANDARD
END:VTIMEZONE
BEGIN:VEVENT
DTSTART;TZID=Europe/Helsinki:20260112T190000
DTEND;TZID=Europe/Helsinki:20260112T220000
DTSTAMP:20260420T161219
CREATED:20260111T165648Z
LAST-MODIFIED:20260111T170148Z
UID:7339-1768244400-1768255200@www.ff-mixnitz.at
SUMMARY:Winterschulung
DESCRIPTION:
URL:https://www.ff-mixnitz.at/event/winterschulung-6/
CATEGORIES:Termine
END:VEVENT
BEGIN:VEVENT
DTSTART;TZID=Europe/Helsinki:20260114T190000
DTEND;TZID=Europe/Helsinki:20260114T220000
DTSTAMP:20260420T161219
CREATED:20260111T170006Z
LAST-MODIFIED:20260111T170006Z
UID:7341-1768417200-1768428000@www.ff-mixnitz.at
SUMMARY:Kommandobesprechung
DESCRIPTION:Nur für ZK und GRKDT
URL:https://www.ff-mixnitz.at/event/kommandobesprechung/
CATEGORIES:Termine
END:VEVENT
BEGIN:VEVENT
DTSTART;TZID=Europe/Helsinki:20260121T180000
DTEND;TZID=Europe/Helsinki:20260121T220000
DTSTAMP:20260420T161219
CREATED:20260111T170352Z
LAST-MODIFIED:20260111T171758Z
UID:7343-1769018400-1769032800@www.ff-mixnitz.at
SUMMARY:MRAS-Übung Abschnitt 05
DESCRIPTION:Nur für MRAS Gruppe
URL:https://www.ff-mixnitz.at/event/mras-uebung-abschnitt-05/
CATEGORIES:Termine
END:VEVENT
BEGIN:VEVENT
DTSTART;TZID=Europe/Helsinki:20260126T190000
DTEND;TZID=Europe/Helsinki:20260126T220000
DTSTAMP:20260420T161219
CREATED:20260111T170433Z
LAST-MODIFIED:20260111T170433Z
UID:7345-1769454000-1769464800@www.ff-mixnitz.at
SUMMARY:Winterschulung
DESCRIPTION:
URL:https://www.ff-mixnitz.at/event/winterschulung-7/
CATEGORIES:Termine
END:VEVENT
END:VCALENDAR